Workbook

Sheet Report 1a
A1: 2025 Annual Statistical Information Survey
A3: Financial Summary
A4: Please do not leave any cell blank. If cells are blank the State Board will need to reach out to obtain an answer.
A5: Key
A6: Value is zero | B6: 0
A7: Does not apply | B7: N/A
A8: Does not track | B8: DNT
B10: *NYS BOE will enter this data | C10: Question #1 | D10: Question #2 | E10: Question #3 | F10: Question #4 | G10: Question #5 | H10: Question #6 | I10: Question #7
A11: County | B11: Number of Registered Voters | C11: Budget | E11: Budget Review
C12: Total Budget for 2025 | D12: Amount Increase or Decrease from 2024 | E12: BOE Staff Salaries (2025) | F12: Cust & Tech Salaries (full-time 2025) | G12: Printing Costs (don't include printing ballots) (2025) | H12: Supplies (2025) | I12: Training (2025)
A14: ALBANY | C14: 5016721 | D14: Increase | E14: 1446272 | F14: 0 | G14: 217000 | H14: 67000 | I14: 33400
A15: ALLEGANY | C15: 495536 | D15: Increase | E15: 372091 | F15: 0 | G15: 24103 | H15: 7890 | I15: 10621.76
A16: BROOME | C16: 2210284 | D16: Increase | E16: 809495 | F16: 0 | G16: 28269.35 | H16: 3259.01 | I16: 14315
A17: CATTARAUGUS | C17: 1044450 | D17: Increase | E17: 397457 | F17: n/a | G17: 10511 | H17: 3503 | I17: 4775
A18: CAYUGA | C18: 617262 | D18: Decrease | E18: 241500 | F18: 0 | G18: 4240 | H18: 1144 | I18: 6090
A19: CHAUTAUQUA | C19: 1221485 | D19: Decrease | E19: 473917.6 | F19: 0 | G19: 14224.09 | H19: 18914.05 | I19: 12565
A20: CHEMUNG | C20: 905738 | D20: Decrease | E20: 350485 | F20: N/A- We have part-time technicians, and the county custodians (from Capablilities, an agency) clean our office once a week | G20: 20767.14 | H20: 15000 | I20: 16640
A21: CHENANGO | C21: 600875 | D21: Decrease | E21: 283836 | F21: 0 | G21: 6287.6 | H21: 3280 | I21: 5312
A22: CLINTON | C22: 851958 | D22: Decrease | E22: 406000 | F22: 13000 | G22: 50000 | H22: 20000 | I22: 17500
A23: COLUMBIA | C23: 957156.06 | D23: Decrease | E23: 759144 | F23: NA | G23: 7407.36 | H23: 44026.41 | I23: 23742
A24: CORTLAND | C24: 665824 | D24: Increase | E24: 229129 | F24: n/a | G24: 5535 | H24: 1069 | I24: 7883
A25: DELAWARE | C25: 687699 | D25: Decrease | E25: 319606 | G25: 5042 | H25: 13535 | I25: 13100
A26: DUTCHESS | C26: 5123280 | D26: Decrease | E26: 1624816 | F26: 0 | G26: 28834 | H26: 111725 | I26: 29435
A27: ERIE | C27: 14857145 | D27: Increase | E27: 8873658 | F27: na | G27: na | H27: na | I27: na
A28: ESSEX | C28: 855062 | D28: Decrease | E28: 189572 | F28: 104208 | G28: 8100 | H28: 30000 | I28: 12358
A29: FRANKLIN | C29: 841961 | D29: Increase | E29: 344968 | F29: N/A | G29: 6702 | H29: 2921 | I29: 2350
A30: FULTON | C30: 629670 | D30: Increase | E30: 252056 | F30: 0 | G30: 1500 | H30: 8000 | I30: 4000
A31: GENESEE | C31: 681697 | D31: Increase | E31: 319342 | F31: N/A | G31: 1510 | H31: 6400 | I31: 9575
A32: GREENE | C32: 883561 | D32: increase | E32: 244445 | F32: N/A | G32: 6264 | H32: 1430 | I32: 6560
A33: HAMILTON | C33: 543225.78 | D33: Increase | E33: 120875.63 | F33: N/A | G33: 1457 | H33: 8478 | I33: 5171.8
A34: HERKIMER | C34: 309000 | D34: Decrease | E34: 194602 | F34: 0 | G34: 500 | H34: 38000 | I34: 6840
A35: JEFFERSON | C35: 1846202 | D35: Increase | E35: 370256 | F35: 34525 | G35: 33409 | H35: 10285 | I35: 590
A36: LEWIS | C36: 398924.55 | D36: Decrease | E36: 203260 | F36: N/A | G36: 6237.6 | H36: 6044.8 | I36: 5000
A37: LIVINGSTON | C37: 1057920.3 | D37: Increase | E37: 333597 | F37: 0 | G37: 19100 | H37: 6486 | I37: 12173
A38: MADISON | C38: 1013367 | D38: Decrease | E38: 407410 | F38: N/A | G38: 94.33 | H38: 4182.28 | I38: 10305
A39: MONROE | C39: 14945628 | D39: Increase | E39: 4084705 | F39: N/A | G39: 268000 | H39: 668357 | I39: 67775
A40: MONTGOMERY | C40: 576507 | D40: Decrease | E40: 322437 | F40: N/A | G40: 40000 | H40: 1800 | I40: 4845
A41: NASSAU | C41: 28807425 | D41: Decrease | E41: 17598612 | F41: 1059045 | G41: 192430 | H41: 220500 | I41: 416000
A42: NIAGARA | C42: 4066437.5 | D42: Increase | E42: 770977 | F42: 112160 | G42: 15592.75 | H42: 11302.48 | I42: 34075
A43: ONEIDA | C43: 4073499 | D43: Decrease | E43: 1126454 | F43: 221764 | G43: 11804.26 | H43: 18928 | I43: 33200
...

Sheet Report 1b
A1: 2025 Annual Statistical Information Survey
A3: Financial Summary (continued)
A4: Please do not leave any cell blank. If cells are blank the State Board will need to reach out to obtain an answer.
A5: Key
A6: Value is zero | B6: 0
A7: Does not apply | B7: N/A
A8: Does not track | B8: DNT
B10: June Primary Election-Specific Costs | J10: General Election-Specific Costs
A11: County | B11: Question #8 | C11: Question #9 | D11: Question #10 | E11: Question #11 | F11: Question #12 | G11: Question #13 | H11: Question #14 | I11: Question #15 | J11: Question #16 | K11: Question #17 | L11: Question #18 | M11: Question #19 | N11: Question #20 | O11: Question #21 | P11: Question #22 | Q11: Question #23
B12: Party Rep Salaries | C12: Poll-site Rentals | D12: Moving Costs for Machines and/or BMD's | E12: Absentee Ballot Costs | F12: Election Day Ballot Costs | G12: Election Inspector Costs | H12: Tech. Costs (p/t or contract staff) | I12: Cost of legal ads | J12: Party Rep Salaries | K12: Poll-site Rentals | L12: Moving Costs for Machines and/or BMD's | M12: Absentee Ballot Costs | N12: Election Day Ballot Costs | O12: Election Inspector Costs | P12: Tech. Costs (p/t or contract staff) | Q12: Cost of legal ads
A13: ALBANY | B13: 700 | C13: 600 | D13: 6201 | E13: 10099 | F13: 4678 | G13: 3600 | H13: 0 | I13: 2193 | J13: 2550 | K13: 33347 | L13: 18604 | M13: 15057 | N13: 18532 | O13: 199200 | P13: n/a | Q13: 3939
A14: ALLEGANY | B14: 0 | C14: 50 | D14: 194.33 | E14: 189 | F14: 500 | G14: 27389.15 | H14: 4048.45 | I14: 0 | J14: 0 | K14: 50 | L14: 341 | M14: 1428 | N14: 1500 | O14: 36837.59 | P14: 4633.75 | Q14: 0
A15: BROOME | B15: 0 | C15: 1150 | D15: 9779.25 | E15: 5296.05 | F15: 7043.88 | G15: 60150 | H15: 28518.75 | I15: 1423 | J15: 0 | K15: 4950 | L15: 15580.5 | M15: 10616.81 | N15: 17862 | O15: 101658 | P15: 49606.25 | Q15: 1872.51
A16: CATTARAUGUS | B16: n/a | C16: n/a | D16: 5136 | E16: 500 | F16: 1424 | G16: 16448 | H16: 7130 | I16: n/a | J16: 0 | K16: 0 | L16: 6562 | M16: 4042 | N16: 19126 | O16: 60943 | P16: 9731 | Q16: n/a
A17: CAYUGA | B17: n/a | C17: N/A | D17: 1528.57 | E17: 795 | F17: 0 | G17: 5225 | H17: 685.76 | I17: 0 | J17: n/a | K17: n/a | L17: 3150 | M17: 1391 | N17: 1200 | O17: 54457 | P17: 3679 | Q17: 675
A18: CHAUTAUQUA | B18: 0 | C18: 900 | D18: 0 | E18: 12 | F18: 97.5 | G18: 4079.51 | H18: 0 | I18: 88.57 | J18: 0 | K18: 6150 | L18: 2808.19 | M18: 311 | N18: 4393 | O18: 88816.69 | P18: 0 | Q18: 1049.97
A19: CHEMUNG | B19: 0 | C19: 0 | D19: 3453.25 | E19: 1328 | F19: 3439.2 | G19: 37439.06 | H19: 2861.25 | I19: 74.16 | J19: 0 | K19: 400 | L19: 4805.25 | M19: 1779 | N19: 16272 | O19: 67299 | P19: 10032.5 | Q19: 293.87
A20: CHENANGO | B20: 15.00/hr | C20: 0 | D20: 497.8 | E20: 142.56 | F20: 679.92 | G20: 4646.2 | H20: 0 | I20: 135 | J20: 15.00/hr | K20: 0 | L20: 1206 | M20: 1180 | N20: 12386 | O20: 22834 | P20: 0 | Q20: 1795
A21: CLINTON | B21: N/A | C21: 200 | D21: 0 | E21: 100 | F21: 250 | G21: 0 | H21: 0 | I21: 126 | J21: N/A | K21: 400 | L21: 7500 | M21: 10000 | N21: 15000 | O21: 45000 | P21: N/A | Q21: 966
A22: COLUMBIA | B22: NA | C22: 300 | D22: 0 | E22: 159.1 | F22: 197.82 | G22: 14433.22 | H22: NA | I22: 1904 | J22: NA | K22: 1550 | L22: 1200.59 | M22: 4193 | N22: 4588.04 | O22: 75655.92 | P22: NA | Q22: 5010
A23: CORTLAND | B23: n/a | C23: n/a | D23: n/a | E23: n/a | F23: n/a | G23: n/a | H23: n/a | I23: n/a | J23: n/a | K23: n/a | L23: 1278 | M23: 2015 | N23: 6749 | O23: 23068 | P23: 3662 | Q23: 997
A24: DELAWARE | B24: N/A | C24: 875 | D24: 1600 | E24: 891 | F24: 3834 | G24: 49175 | H24: N/A | I24: 81 | J24: N/A | K24: 875 | L24: 1600 | M24: 6327 | N24: 8949 | O24: 51000 | P24: N/A | Q24: 955
A25: DUTCHESS | B25: 0 | C25: 0 | D25: 8976 | E25: 672 | F25: 458 | G25: 48835 | H25: 292.33 | I25: 421 | J25: 0 | K25: 0 | L25: 30679 | M25: 9500 | N25: 19882 | O25: 273135 | P25: 10798 | Q25: 3450
A26: ERIE | B26: n/a | C26: 91975 | D26: 0 | E26: 2100 | F26: 8868 | G26: 440726 | H26: 2500 | I26: 4172 | J26: na | K26: 67500 | L26: 0 | M26: 15000 | N26: 26620 | O26: 958707 | P26: 2500 | Q26: 5324
A27: ESSEX | B27: N/A | C27: 550 | D27: 632.82 | E27: 516 | F27: 1570 | G27: 12855 | H27: 1648 | I27: 139 | J27: N/A | K27: 2200 | L27: 0 | M27: 2350 | N27: 16279 | O27: 46316 | P27: 6248 | Q27: 206.79
A28: FRANKLIN | B28: N/A | C28: N/A | D28: N/A | E28: N/A | F28: N/A | G28: N/A | H28: N/A | I28: N/A | J28: N/A | K28: 375 | L28: 794 | M28: 1068 | N28: 7243 | O28: 26189 | P28: 5306 | Q28: 400
A29: FULTON | B29: 1050 | C29: 0 | D29: 1110 | E29: 827 | F29: 2230 | G29: 18122 | H29: 1000 | I29: 77.21 | J29: 1990 | K29: N/A | L29: 1830 | M29: 1416 | N29: 5977 | O29: 18927 | P29: 785 | Q29: 1982
A30: GENESEE | B30: N/A | C30: 2200 | D30: 950 | E30: 341 | F30: 888 | G30: 19634 | H30: 4808 | I30: 50 | J30: N/A | K30: 2750 | L30: 4370 | M30: 1463 | N30: 7656 | O30: 55970 | P30: 19506 | Q30: 292
A31: GREENE | B31: n/a | C31: n/a | D31: n/a | E31: n/a | F31: n/a | G31: n/a | H31: n/a | I31: n/a | J31: n/a | K31: 3600 | L31: 1940 | M31: 2342 | N31: 9779 | O31: 50087 | P31: 620 | Q31: 33
A32: HAMILTON | B32: N/A | C32: N/A | D32: 500 | E32: 45 | F32: 324 | G32: 9026.75 | H32: 5502 | I32: 415.8 | J32: N/A | K32: N/A | L32: 2350 | M32: 148.5 | N32: 1035 | O32: 22117.75 | P32: 5502 | Q32: 594
A33: HERKIMER | B33: N/A | C33: 700 | D33: 3023 | E33: 200 | F33: 1421 | G33: 4086 | H33: 1500 | I33: 108 | J33: N/A | K33: 3950 | L33: 8287 | M33: 3204 | N33: 10208 | O33: 46291 | P33: 2000 | Q33: 278
A34: JEFFERSON | B34: 0 | C34: 0 | D34: 1262 | E34: 399 | F34: 8171 | G34: 34157 | H34: 0 | I34: 509 | J34: 0 | K34: 0 | L34: 1757 | M34: 4531 | N34: 39083 | O34: 62786 | P34: 0 | Q34: 746
A35: LEWIS | B35: DNT | C35: DNT | D35: 0 | E35: 3.12 | F35: 22 | G35: 2850 | H35: 4000 | I35: 102.79 | J35: DNT | K35: DNT | L35: 608.85 | M35: 369.72 | N35: 977.2 | O35: 31590 | P35: 16000 | Q35: 219.42
A36: LIVINGSTON | B36: 0 | C36: 0 | D36: 598 | E36: 50 | F36: 136 | G36: 4992 | H36: 1800 | I36: 329 | J36: 0 | K36: 0 | L36: 2455 | M36: 1416 | N36: 2064 | O36: 6400 | P36: 4200 | Q36: 5595
A37: MADISON | B37: 0 | C37: 300 | D37: 1835.72 | E37: 792 | F37: 1872 | G37: 20700 | H37: 4494 | I37: 137.51 | J37: 0 | K37: 750 | L37: 7632.71 | M37: 4230.88 | N37: 9819.5 | O37: 50130.5 | P37: 6940.5 | Q37: 960.26
A38: MONROE | B38: N/A | C38: N/A | D38: 22190.5 | E38: 3761 | F38: 11400 | G38: 180115 | H38: 4141.4 | I38: 2548.66 | J38: N/A | K38: 30915 | L38: 98432 | M38: 18875.55 | N38: 81009.54 | O38: 535857 | P38: 11662.1 | Q38: 13957.18
A39: MONTGOMERY | B39: 0 | C39: 750.02 | D39: 2280 | E39: 37 | F39: 1319 | G39: 20568.75 | H39: N/A | I39: 69.42 | J39: 0 | K39: 1750 | L39: 4080 | M39: 1042.52 | N39: 15387 | O39: 54603.48 | P39: N/A | Q39: 3408.6
A40: NASSAU | B40: N/A | C40: N/A | D40: N/A | E40: N/A | F40: N/A | G40: N/A | H40: N/A | I40: N/A | J40: 0 | K40: 70630 | L40: 320614 | M40: 57770 | N40: 411654 | O40: 1173242 | P40: 0 | Q40: 15000
A41: NIAGARA | B41: N/A | C41: 9907.17 | D41: 12484.62 | E41: 2434.72 | F41: 7284 | G41: 71232 | H41: Contract | I41: 817.6 | J41: N/A | K41: 10749.67 | L41: 27635.41 | M41: 9008.4 | N41: 42480 | O41: 203693 | P41: Contract | Q41: 4202.4
A42: ONEIDA | B42: N/A | C42: 4125 | D42: 4904 | E42: 1210 | F42: 3762 | G42: 72048.83 | H42: N/A | I42: 292 | J42: N/A | K42: 5425 | L42: 5605 | M42: 8114 | N42: 30422 | O42: 217600 | P42: N/A | Q42: 991
...

Sheet Report 1c
A1: 2025 Annual Statistical Information Survey
A3: Financial Summary (continued)
A4: Please do not leave any cell blank. If cells are blank the State Board will need to reach out to obtain an answer.
A5: Key
A6: Value is zero | B6: 0
A7: Does not apply | B7: N/A
A8: Does not track | B8: DNT
B10: Question #24 | C10: Question #25 | D10: Question #26 | E10: Question #27 | F10: Question #28 | G10: Question #29 | H10: Question #30 | I10: Question #31 | J10: Question #32 | K10: Question #33
A11: County | B11: COMMISSIONERS | F11: DEPUTY COMMISSIONERS | I11: OTHER EMPLOYEES (excluding Poll Workers on Early Voting and Election Day)
B13: Democratic | C13: Republican | D13: 2 or 4 Year Term | E13: FT/PT | F13: Democratic | G13: Republican | H13: FT/PT | I13: Number of | J13: Number of | K13: Temporary/
B14: Commissioner | C14: Commissioner | F14: Deputy | G14: Deputy | I14: Full-Time | J14: Part-Time | K14: Seasonal
B15: Salary | C15: Salary | F15: Salary | G15: Salary | I15: Employees | J15: Employees | K15: Employees
A16: ALBANY | B16: 115501 | C16: 115501 | D16: 2 | E16: Full-time | F16: 83775 | G16: 83775 | H16: Full-time | I16: 22 | J16: 2 | K16: 0
A17: ALLEGANY | B17: 22279 | C17: 22279 | D17: 4 | E17: Part-time | F17: 50922 | G17: 50922 | H17: Full-time | I17: 2 | J17: 2 | K17: 0
A18: BROOME | B18: 20000 | C18: 20000 | D18: 4 | E18: Part-time | F18: 103191.54 | G18: 103191.54 | H18: Full-time | I18: 12 | J18: 2 | K18: 20
A19: CATTARAUGUS | B19: 85280 | C19: 84130 | D19: 4 | E19: Full-time | F19: 56895 | G19: 56587 | H19: Full-time | I19: 2 | J19: 0 | K19: n/a
A20: CAYUGA | B20: 35000 | C20: 35000 | D20: 4 | E20: Part-time | F20: 62900 | G20: 64400 | H20: Full-time | I20: 0 | J20: 2 | K20: 2
A21: CHAUTAUQUA | B21: 78802.88 | C21: 78802.88 | D21: 4 | E21: Full-time | F21: 58129.5 | G21: 50895 | H21: Full-time | I21: 4 | J21: 0 | K21: 23
A22: CHEMUNG | B22: 27397.55 | C22: 27397.55 | D22: 2 | E22: Part-time | F22: 63036 | G22: 63036 | H22: Full-time | I22: 4 | J22: 0 | K22: 7
A23: CHENANGO | B23: 64119 | C23: 64119 | D23: 2 | E23: Full-time | F23: 38220 | G23: 43726 | H23: Full-time | I23: 2 | J23: 0 | K23: 3
A24: CLINTON | B24: 62779 | C24: 62779 | D24: 4 | E24: Full-time | F24: 59834 | G24: 57192 | H24: Full-time | I24: 2 | J24: 0 | K24: 0
A25: COLUMBIA | B25: 85344.5 | C25: 85344.5 | D25: 4 | E25: Full-time | F25: 70500 | G25: 70500 | H25: Full-time | I25: 8 | J25: 0 | K25: 0
A26: CORTLAND | B26: 59026 | C26: 59026 | D26: 4 | E26: Full-time | F26: 56402 | G26: 56402 | H26: Full-time | I26: 4 | J26: 0 | K26: 2
A27: DELAWARE | B27: 62550 | C27: 62550 | D27: 2 | E27: Full-time | F27: 54900 | G27: 54900 | H27: Full-time | I27: 2 | J27: 0 | K27: 0
A28: DUTCHESS | B28: 128882 | C28: 128882 | D28: 2 | E28: Full-time | F28: 115518 | G28: 115518 | H28: Full-time | I28: 16 | J28: 2 | K28: 4
A29: ERIE | B29: 155082 | C29: 155082 | D29: 4 | E29: Full-time | F29: 115865 | G29: 119634 | H29: Full-time | I29: 36 | J29: 28 | K29: 5
A30: ESSEX | B30: 32308 | C30: 32308 | D30: 4 | E30: Part-time | F30: 62478 | G30: 62478 | H30: Full-time | I30: 2 | J30: 0 | K30: 6
A31: FRANKLIN | B31: 73588 | C31: 73588 | D31: 4 | E31: Full-time | F31: 53892 | G31: 53892 | H31: Full-time | I31: 2 | J31: 0 | K31: 1
... A33: GENESEE | B33: 62817 | C33: 62817 | D33: 4 | E33: Part-time | F33: 66657 | G33: 65857 | H33: Full-time | I33: 0 | J33: 5 | K33: 0
A34: GREENE | B34: 22705 | C34: 22705 | D34: 4 | E34: Part-time | F34: 56000 | G34: 56000 | H34: Full-time | I34: 2 | J34: 0 | K34: Yes
A35: HAMILTON | B35: 58926 | C35: 58926 | D35: 2 | E35: Full-time | F35: 19.79 | G35: 19.79 | H35: Part-time | I35: 0 | J35: 0 | K35: 0
A36: HERKIMER | B36: 53516 | C36: 53516 | D36: 2 | E36: Part-time | F36: 43785 | G36: 43785 | H36: Full-time | I36: 0 | J36: 0 | K36: 3
A37: JEFFERSON | B37: 66616 | C37: 66616 | D37: 2 | E37: Full-time | F37: 51800 | G37: 51800 | H37: Full-time | I37: 8 | J37: 0 | K37: 0
A38: LEWIS | B38: 62733 | C38: 62733 | D38: 2 | E38: Full-time | F38: 42120 | G38: 43805 | H38: Full-time | I38: 0 | J38: 0 | K38: 0
A39: LIVINGSTON | B39: 76250 | C39: 76250 | D39: 4 | E39: Full-time | F39: 68500 | G39: 68500 | H39: Full-time | I39: n/a | J39: 2 | K39: n/a
A40: MADISON | B40: 90296 | C40: 90296 | D40: 4 | E40: Full-time | F40: $58, 895.00 | G40: 58895 | H40: Full-time | I40: 6 | J40: 4 | K40: 1
A41: MONROE | B41: 168178 | C41: 168178 | D41: 4 | E41: Full-time | F41: 152178 | G41: 152178 | H41: Full-time | I41: 50 | J41: 8 | K41: 13
A42: MONTGOMERY | B42: 65875 | C42: 63779.53 | D42: 4 | E42: Full-time | F42: 55132 | G42: 57632 | H42: Full-time | I42: 6 | J42: 0 | K42: 0
A43: NASSAU | B43: 210000 | C43: 210000 | D43: 2 | E43: Full-time | F43: 160000 | G43: 160000 | H43: Full-time | I43: 180 | J43: 50 | K43: 75
A44: NIAGARA | B44: 108150 | C44: 108150 | D44: 4 | E44: Full-time | F44: 75546 | G44: 77739 | H44: Full-time | I44: 10 | J44: 0 | K44: 0
...

Sheet Report 1d
A1: 2025 Annual Statistical Information Survey
A3: Inspector Information Summary
A4: Please do not leave any cell blank. If cells are blank the State Board will need to reach out to obtain an answer.
A5: Key
A6: Value is zero | B6: 0
A7: Does not apply | B7: N/A
A8: Does not track | B8: DNT
B10: Question #34 | C10: Question #35 | D10: Question #36 | E10: Question #37 | F10: Question #38 | G10: Question #39 | H10: Question #40 | I10: Question #41 | J10: Question #42 | K10: Question #43 | L10: Question #44 | M10: Question #45 | N10: Question #46 | O10: Question #47 | P10: Question #48 | Q10: Question #48a | R10: Question #49 | S10: Question #50 | T10: Question #51 | Z10: Question #51a
A11: County | B11: Number of Inspectors Appointed | C11: Number Inspectors Attending Class & Passed | D11: Number Who Failed Exam | E11: Number Of Alternate Inspectors Appointed | F11: Number of Classes Held | G11: Class Size | H11: Average Class Length | I11: Month Training is Held | J11: Countywide Insepctor Salary Rate | K11: Rate of Pay For Training | L11: Stipend Paid to Inspector Chairs | M11: Number asked to be Added as Inspector | N11: Number of Inspectors who worked on General Election Day | O11: Do any Inspectors work split shifts on Elect Day? | P11: Did you use Inspector Coordinators? | Q11: If yes to Inspector Coordinators, how much are they paid? | R11: How easy or difficult to obtain Poll Workers for the General Election | S11: Do you survey Inspectors for ideas on how to improve Election Day experience? | T11: Please identify the number of Poll Workers by Age Groups (Enter ONE numerical value) Assigned to Work Early Voting and Election Day | Z11: Please identify the number of poll workers that served for the first time in the General Election (Count only once no matter how many shifts worked)
T12: Under 18 | U12: 18 to 25 | V12: 26 to 40 | W12: 41 to 60 | X12: 61 to 70 | Y12: 71 and older
A13: ALBANY | B13: 668 | C13: 668 | D13: 0 | E13: 0 | F13: 84 | G13: 8 | H13: 2.5 hours | I13: may,october | J13: 300 | K13: 50 | L13: 25 | M13: 0 | N13: 668 | O13: No | P13: Yes | Q13: 25 | R13: Neither Difficult nor Easy | S13: No | T13: 0 | U13: 18 | V13: 58 | W13: 180 | X13: 242 | Y13: 170
A14: ALLEGANY | B14: 137 | C14: 137 | D14: 0 | E14: 0 | F14: 2 | G14: 75 | H14: 7 hours | I14: May & September | J14: $15.50 per hour | K14: $15.50 per hour | L14: 0 | M14: 35 | N14: 125 | O14: Yes | P14: Yes | Q14: $18.50 per hour | R14: Somewhat Difficult | S14: No | T14: 0 | U14: 0 | V14: 7 | W14: 16 | X14: 46 | Y14: 59 | Z14: 8
A15: BROOME | B15: 634 | C15: 637 | D15: 4 | E15: N/A | F15: 53 | G15: 16 | H15: 3.5 hr | I15: July - October | J15: $15.50/hr | K15: $15.50/hr | L15: $1/hr | M15: 189 | N15: 298 | O15: Yes | P15: Yes | Q15: $19/hr | R15: Very Difficult | S15: No | T15: 6 | U15: 17 | V15: 17 | W15: 52 | X15: 105 | Y15: 101 | Z15: 65
A16: CATTARAUGUS | B16: 188 | C16: 188 | D16: 0 | E16: 0 | F16: 9 | G16: 13-35 | H16: 3 hours | I16: August/September | J16: EV - $142/day; ED $241.40/day | K16: $25/day | L16: $10/day | M16: 27 | N16: 199 | O16: No | P16: No | Q16: n/a | R16: Somewhat Difficult | S16: Yes | T16: 0 | U16: 2 | V16: 4 | W16: 38 | X16: 76 | Y16: 76 | Z16: 22
A17: CAYUGA | B17: 157 | C17: 163 | D17: 0 | E17: 8 | F17: 11 | G17: 15-18 | H17: 1.5-2 hours | I17: October | J17: $135/EV $255/Election Day $127.50/ED Half Day | K17: $35/class | L17: Poll Managers $185/EV $330/Election Day | M17: 22 | N17: 141 | O17: Yes | P17: No | Q17: N/A | R17: Somewhat Difficult | S17: Yes | T17: 2 | U17: 3 | V17: 3 | W17: 35 | X17: 54 | Y17: 60 | Z17: 21
A18: CHAUTAUQUA | B18: 359 | C18: 359 | D18: 0 | E18: 0 | F18: 19 | G18: 25 | H18: 2 Hours | I18: July/August | J18: $15.50/Hour | K18: 35 | L18: $3.00/Hour | M18: 21 | N18: 349 | O18: Yes | P18: Yes | Q18: $18.50/Hour | R18: Neither Difficult nor Easy | S18: Yes | T18: 14 | U18: 5 | V18: 11 | W18: 39 | X18: 112 | Y18: 168 | Z18: 28
A19: CHEMUNG | B19: 363 | C19: 363 | D19: 0 | E19: 0 | F19: 38 | G19: 11 | H19: 3 1/2 hrs | I19: March, April, August, September, October | J19: 225 | K19: 40 | L19: $50 (Site Managers) | M19: 8 | N19: 298 | O19: Yes | P19: Yes | Q19: 275 | R19: Somewhat Difficult | S19: Yes | T19: 0 | U19: 3 | V19: 10 | W19: 53 | X19: 105 | Y19: 127 | Z19: 32
A20: CHENANGO | B20: 126 | C20: 126 | D20: 1 | E20: 0 | F20: 16 | G20: 25-30 | H20: 3.5 hrs | I20: May | J20: 15.50/ hr | K20: 35 | L20: 25 | M20: 7 | N20: 93 | O20: Yes | P20: No | Q20: N/A | R20: Somewhat Difficult | S20: Yes | T20: 0 | U20: 0 | V20: 3 | W20: 28 | X20: 39 | Y20: 55 | Z20: 2
A21: CLINTON | B21: 170 | C21: 170 | D21: 0 | E21: N/A | F21: 15 | G21: 15 | H21: 3 Hours | I21: September | J21: 275 | K21: 50 | L21: 50 | M21: 200 | N21: 150 | O21: Yes | P21: Yes | Q21: 325 | R21: Somewhat Difficult | S21: Yes | T21: 1 | U21: 2 | V21: 5 | W21: 20 | X21: 72 | Y21: 50 | Z21: 20
A22: COLUMBIA | B22: 252 | C22: 252 | D22: 0 | E22: 0 | F22: 14 | G22: 20-25 | H22: 4HRS | I22: June-Oct | J22: 18.5 | K22: 65 | L22: 0 | M22: 9 | N22: 252 | O22: Yes | P22: No | Q22: NA | R22: Very Difficult | S22: Yes | T22: 0 | U22: 9 | V22: 4 | W22: 37 | X22: 92 | Y22: 110 | Z22: 8
A23: CORTLAND | B23: 92 | C23: 90 | D23: 2 | E23: 0 | F23: 12 | G23: 8 | H23: 4 hours | I23: August | J23: $16.00/hour | K23: $16.00/hour | L23: 25 | M23: 97 | N23: 84 | O23: No | P23: No | Q23: n/a | R23: Somewhat Difficult | S23: Yes | T23: n/a | U23: n/a | V23: n/a | W23: 17 | X23: 77 | Y23: 7 | Z23: 7
A24: DELAWARE | B24: 433 | C24: 336 | D24: 0 | F24: 25 | G24: 30 | H24: 2 - 3 HOURS | I24: APRIL | J24: $250.00 PER ELECTION | K24: 50 | L24: N/A | M24: 25 | N24: 217 | O24: Yes | P24: No | Q24: N/A | R24: Neither Difficult nor Easy | S24: Yes | T24: 0 | U24: 4 | V24: 29 | W24: 86 | X24: 142 | Y24: 172 | Z24: 6
A25: DUTCHESS | B25: 1271 | C25: 841 | D25: 0 | E25: 30 | F25: 62 | G25: 20-40 | H25: 2 hours | I25: April-June September-November | J25: 300 | K25: 35 | L25: 0 | M25: 87 | N25: 721 | O25: No | P25: Yes | Q25: $300+ Mileage+$10 per election district | R25: Somewhat Difficult | S25: Yes | T25: 0 | U25: 28 | V25: 104 | W25: 472 | X25: 315 | Y25: 143 | Z25: 48
A26: ERIE | B26: 2324 | C26: >2,400 | D26: LESS THAN 10 | E26: 34 | G26: 30 | H26: 3HRS | I26: 2 | J26: 300 | K26: 25$ PER CLASS | L26: 15 | M26: DNT | N26: 2324 | O26: No | P26: No | R26: Neither Difficult nor Easy | S26: Yes | T26: 0 | U26: 13 | V26: 98 | W26: 400 | X26: 864 | Y26: 1284 | Z26: DNT
A27: ESSEX | B27: 134 | C27: 110 | D27: 0 | E27: 24 | F27: 10 | G27: 15 | H27: 3 | I27: Sep/Oct | J27: 18.75/hr | K27: 60 | L27: 50 | M27: 8 | N27: 117 | O27: Yes | P27: No | Q27: N/A | R27: Somewhat Difficult | S27: Yes | T27: 0 | U27: 0 | V27: 0 | W27: 22 | X27: 52 | Y27: 60 | Z27: 5
A28: FRANKLIN | B28: 147 | C28: 134 | D28: 0 | E28: 0 | F28: 15 | G28: 20 | H28: 3 hours | I28: February, May, July, August, October | J28: 225 | K28: 25 | L28: 25 | M28: 6 | N28: 122 | O28: Yes | P28: Yes | Q28: 250 | R28: Very Difficult | S28: Yes | T28: 7 | U28: 5 | V28: 4 | W28: 21 | X28: 46 | Y28: 39 | Z28: 29
A29: FULTON | B29: 140 | C29: 140 | D29: 0 | E29: 0 | F29: 10 | G29: 15 | H29: 2 HRS | I29: AUG/SEPT | J29: 256 | K29: 32 | L29: 25 | M29: 20 | N29: 102 | O29: No | P29: No | R29: Very Difficult | S29: No | T29: 0 | U29: 0 | V29: 4 | W29: 16 | X29: 44 | Y29: 77 | Z29: 20
A30: GENESEE | B30: 177 | C30: 177 | D30: 0 | E30: 65 | F30: 9 | G30: 25 | H30: 3 | I30: May | J30: 320 | K30: 60 | L30: 40 | M30: 25 | N30: 141 | O30: No | P30: Yes | Q30: 360 | R30: Somewhat Difficult | S30: No | T30: 0 | U30: 7 | V30: 28 | W30: 39 | X30: 55 | Y30: 39 | Z30: 7
A31: GREENE | B31: 207 | C31: 207 | D31: 0 | E31: 0 | F31: 16 | G31: 20 | H31: 3 hours | I31: September | J31: 275 | K31: 30 | L31: 15 | M31: 6 | N31: 175 | O31: No | P31: No | Q31: n/a | R31: Somewhat Difficult | S31: No | T31: 0 | U31: 2 | V31: 5 | W31: 26 | X31: 61 | Y31: 81 | Z31: 26
A32: HAMILTON | B32: 53 | C32: 49 | D32: 0 | E32: 0 | F32: 4 | G32: 12 people | H32: 3 | I32: SEPT OR OCT | J32: 15.5 | K32: 15.5 | L32: 30 | M32: 1 | N32: 49 | O32: Yes | P32: No | Q32: N/A | R32: Very Difficult | S32: Yes | T32: 0 | U32: 0 | V32: 0 | W32: 3 | X32: 30 | Y32: 16 | Z32: 0
A33: HERKIMER | B33: 171 | C33: 171 | D33: 0 | E33: 0 | F33: 7 | G33: 50 | H33: 2 hr | I33: May June Oct | J33: 15.5 | K33: 40 | L33: 0 | M33: 8 | N33: 155 | O33: Yes | P33: No | Q33: n/a | R33: Neither Difficult nor Easy | S33: Yes | T33: 0 | U33: 1 | V33: 3 | W33: 15 | X33: 50 | Y33: 102 | Z33: 4
A34: JEFFERSON | B34: 281 | C34: 281 | D34: 46 | E34: 0 | F34: 14 | G34: 25 | H34: 3 | I34: March, April, May, September | J34: 15.5 | K34: 52.5 | L34: 25 | M34: 62 | N34: 170 | O34: Yes | P34: No | Q34: 0 | R34: Very Difficult | S34: Yes | T34: 0 | U34: 5 | V34: 11 | W34: 50 | X34: 96 | Y34: 104 | Z34: 11
A35: LEWIS | B35: 121 | C35: 121 | D35: 0 | E35: 0 | F35: 17 | G35: 10 | H35: 2 hrs | I35: Jul - Aug | J35: DNT | K35: 40 | L35: 45 | M35: 25 | N35: 88 | O35: No | P35: Yes | Q35: 400 | R35: Neither Difficult nor Easy | S35: Yes | T35: 0 | U35: 1 | V35: 30 | W35: 30 | X35: 41 | Y35: 42 | Z35: 4
A36: LIVINGSTON | B36: 177 | C36: 169 | D36: 0 | E36: 0 | F36: 9 | G36: 30 | H36: 2.5 hours | I36: varies | J36: varies | K36: 50 per training | L36: N/A | M36: 0 | N36: 114 | O36: No | P36: Yes | Q36: 350 | R36: Somewhat Easy | S36: No | T36: 0 | U36: 0 | V36: 2 | W36: 26 | X36: 72 | Y36: 68 | Z36: 0
A37: MADISON | B37: 229 | C37: 229 | D37: 0 | E37: 0 | F37: 11 | G37: 18-25 | H37: 3.5 hours | I37: May, July, Aug, Sept | J37: 240 | K37: 45 | L37: 25 | M37: 21 | N37: 207 | O37: Yes | P37: No | Q37: N/A | R37: Somewhat Easy | S37: Yes | T37: 0 | U37: 0 | V37: 4 | W37: 35 | X37: 83 | Y37: 84 | Z37: 15
A38: MONROE | B38: 2392 | C38: 2392 | D38: 225 | E38: 195 | F38: 162 | G38: 35 | H38: 2.5 | I38: May;Sept;Oct | J38: 16 | K38: 25 | L38: $2 additional | M38: DNT | N38: 2139 | O38: No | P38: Yes | Q38: $18/hr plus $22 per site assignment | R38: Very Difficult | S38: Yes | T38: 4 | U38: 22 | V38: 92 | W38: 340 | X38: 736 | Y38: 650 | Z38: 384
A39: MONTGOMERY | B39: 135 | C39: 135 | D39: 0 | E39: 0 | F39: 3 | G39: 30 | H39: 2.5 | I39: July | J39: 15.00 / Hour | K39: $30.00 In Person $25.00 Online | L39: N/A | M39: 5 | N39: 136 | O39: Yes | P39: Yes | Q39: $18.00 / Hour | R39: Neither Difficult nor Easy | S39: No | T39: 0 | U39: 1 | V39: 4 | W39: 30 | X39: 44 | Y39: 73 | Z39: 5
A40: NASSAU | B40: 4085 | C40: 2200 | D40: 0 | E40: 0 | F40: 164 | G40: 25-30 | H40: 2-3 hours | I40: Sept-Oct | J40: 240 | K40: 40 | L40: 8 | M40: DNT | N40: 4085 | O40: Yes | P40: Yes | Q40: 250 | R40: Somewhat Difficult | S40: No | T40: 15 | U40: 220 | V40: 406 | W40: 995 | X40: 1310 | Y40: 1139 | Z40: 593
A41: NIAGARA | B41: 531 | C41: 531 | D41: 0 | E41: 0 | F41: 27 | G41: 30 | H41: 2.5 hours | I41: August | J41: 300 | K41: 25 and 50 | L41: 30 | M41: 42 | N41: 457 | O41: No | P41: No | Q41: N/A | R41: Somewhat Difficult | S41: No | T41: 0 | U41: 1 | V41: 13 | W41: 85 | X41: 162 | Y41: 196 | Z41: 24
A42: ONEIDA | B42: 601 | C42: 601 | D42: 0 | E42: 0 | F42: 36 | G42: 15-20 | H42: 2.5-3hr | I42: June, Sept. Oct | J42: 250 | K42: 50 | L42: N/A | M42: 0 | N42: 606 | O42: Yes | P42: Yes | Q42: 275 | R42: Very Difficult | S42: Yes | T42: 0 | U42: 4 | V42: 10 | W42: 109 | X42: 195 | Y42: 288 | Z42: 47
...

Sheet Report 1e
A1: 2025 Annual Statistical Information Survey
A3: June Primary Designating Petition Summary
A4: Please do not leave any cell blank. If cells are blank the State Board will need to reach out to obtain an answer.
A5: Key
A6: Value is zero | B6: 0
A7: Does not apply | B7: N/A
A8: Does not track | B8: DNT
B10: DESIGNATING PETITIONS | M10: OPPORTUNITY TO BALLOT PETITIONS
B11: Question #52 | C11: Question #53 | D11: Question #54 | E11: Question #55 | F11: Question #56 | G11: Question #57 | H11: Question #58 | I11: Question #59 | J11: Question #60 | K11: Question #61 | L11: Question #62 | M11: Question #63 | N11: Question #64 | O11: Question #65 | P11: Question #66 | Q11: Question #67 | R11: Question #68 | S11: Question #69 | T11: Question #70
A12: County | B12: Number Petitions Received | C12: Number Invalidated in Prima Facie Review | D12: Number Objected to | E12: Number of Specs Filed | F12: Number Invalidated by Board | G12: Number of Court Cases | H12: Does your board hold petition hearings? | I12: Number Cases Upholding Board Position | J12: Number Cases Reversing Board Position | K12: Do you use SBOE prima facie review post-it notes program for your review? | L12: If No, please describe what you use. | M12: Number Petitions Received | N12: Number Invalidated in Prima Facie Review | O12: Number Objected to | P12: Number of Specs Filed | Q12: Number Invalidated by Board | R12: Number of Court Cases | S12: Number Cases Upholding Board Position | T12: Number Cases Reversing Board Position
A13: ALBANY | B13: 88 | C13: 0 | D13: 7 | E13: 8 | F13: 5 | G13: 1 | H13: Yes | I13: 1 | J13: 0 | K13: Yes | M13: 0 | N13: 0 | O13: 0 | P13: 0 | Q13: 0 | R13: 0 | S13: 0 | T13: 0
A14: ALLEGANY | B14: 112 | C14: 2 | D14: 2 | E14: 2 | F14: 2 | G14: 0 | H14: Yes | I14: 0 | J14: 0 | K14: No | L14: inhouse prima facie review form | M14: 1 | N14: 0 | O14: 0 | P14: 0 | Q14: 0 | R14: 0 | S14: 0 | T14: 0
A15: BROOME | B15: 179 | C15: 1 | D15: 0 | E15: 0 | F15: N/A | G15: 0 | H15: Yes | I15: N/A | J15: N/A | K15: Yes | M15: 1 | N15: 0 | O15: 1 | P15: 24 | Q15: 1 | R15: 0 | S15: N/A | T15: N/A
A16: CATTARAUGUS | B16: 77 | C16: 1 | D16: 1 | E16: 1 | F16: 1 | G16: 0 | H16: Yes | I16: 0 | J16: 0 | K16: Yes | L16: n/a | M16: 0 | N16: 0 | O16: 0 | P16: 0 | Q16: 0 | R16: 0 | S16: 0 | T16: 0
A17: CAYUGA | B17: 104 | C17: 4 | D17: 4 | E17: 1 | F17: 1 | G17: 0 | H17: Yes | I17: 1 | J17: 0 | K17: No | L17: Prima facie election law review | M17: 0 | N17: 0 | O17: 0 | P17: 0 | Q17: 0 | R17: 0 | S17: 0 | T17: 0
A18: CHAUTAUQUA | B18: 158 | C18: 0 | D18: 3 | E18: 1 | F18: 0 | G18: 0 | H18: Yes | I18: 0 | J18: 0 | K18: Yes | L18: N/A | M18: 0 | N18: 0 | O18: 0 | P18: 0 | Q18: 0 | R18: 0 | S18: 0 | T18: 0
A19: CHEMUNG | B19: 72 | C19: 2 | D19: 2 | E19: 0 | F19: 0 | G19: 0 | H19: Yes | I19: 0 | J19: 0 | K19: No | L19: County Prima Facia Review Sheets - see attached | M19: 0 | N19: 0 | O19: 0 | P19: 0 | Q19: 0 | R19: 0 | S19: 0 | T19: 0
A20: CHENANGO | B20: 113 | C20: 0 | D20: 0 | E20: 0 | F20: 0 | G20: 0 | H20: No | I20: 0 | J20: 0 | K20: Yes | L20: N/A | M20: 0 | N20: 0 | O20: 0 | P20: 0 | Q20: 0 | R20: 0 | S20: 0 | T20: 0
A21: CLINTON | B21: 34 | C21: 0 | D21: 0 | E21: 0 | F21: 0 | G21: 0 | H21: Yes | I21: N/A | J21: N/A | K21: Yes | L21: N/A | M21: 1 | N21: 0 | O21: 0 | P21: 0 | Q21: 0 | R21: 0 | S21: N/A | T21: N/A
A22: COLUMBIA | B22: 61 | C22: 0 | D22: 2 | E22: 0 | F22: 1 | G22: 0 | H22: Yes | I22: 0 | J22: NA | K22: Yes | L22: NA | M22: 0 | N22: NA | O22: NA | P22: NA | Q22: NA | R22: NA | S22: NA | T22: NA
A23: CORTLAND | B23: 16 | C23: 0 | D23: 0 | E23: N/A | F23: N/A | G23: N/A | H23: Yes | I23: N/A | J23: N/A | K23: Yes | L23: N/A | M23: 0 | N23: N/A | O23: N/A | P23: N/A | Q23: N/A | R23: N/A | S23: N/A | T23: N/A
A24: DELAWARE | B24: 85 | C24: 2 | D24: 1 | E24: 0 | F24: 2 | G24: 0 | H24: Yes | I24: 0 | J24: 0 | K24: Yes | M24: 0 | N24: N/A | O24: N/A | P24: N/A | Q24: 0 | R24: 0 | S24: 0 | T24: 0
A25: DUTCHESS | B25: 708 | C25: 3 | D25: 28 | E25: 10 | F25: 5 | G25: 4 | H25: Yes | I25: 1 | J25: 0 | K25: Yes | L25: N/A | M25: 0 | N25: 0 | O25: 0 | P25: 0 | Q25: 0 | R25: 0 | S25: 0 | T25: 0
A26: ERIE | B26: 177 | C26: 1 | D26: 31 | E26: 11 | F26: 2 | G26: 1 | H26: Yes | I26: 1 | J26: 0 | K26: No | L26: Review Petitions, separating those that do not comply | M26: 1 | N26: 0 | O26: 1 | P26: 1 | Q26: 0 | R26: 0 | S26: 0 | T26: 0
A27: ESSEX | B27: 120 | C27: 0 | D27: 2 | E27: 2 | F27: 2 | G27: 0 | H27: Yes | I27: N/A | J27: N/A | K27: Yes | L27: N/A | M27: 0 | N27: N/A | O27: N/A | P27: N/A | Q27: N/A | R27: N/A | S27: N/A | T27: N/A
A28: FRANKLIN | B28: 50 | C28: 1 | D28: 0 | E28: 0 | F28: 0 | G28: 0 | H28: Yes | I28: 0 | J28: 0 | K28: Yes | L28: N/A | M28: 0 | N28: 0 | O28: 0 | P28: 0 | Q28: 0 | R28: 0 | S28: 0 | T28: 0
A29: FULTON | B29: 76 | C29: 0 | D29: 0 | E29: 0 | F29: 0 | G29: 0 | H29: No | I29: 0 | J29: 0 | K29: Yes | M29: 0 | N29: 0 | O29: 0 | P29: 0 | Q29: 0 | R29: 0 | S29: 0 | T29: 0
A30: GENESEE | B30: 52 | C30: 2 | D30: 0 | E30: 0 | F30: 2 | G30: 0 | H30: No | I30: 0 | J30: 0 | K30: No | L30: Review sheet | M30: 0 | N30: 0 | O30: 0 | P30: 0 | Q30: 0 | R30: 0 | S30: 0 | T30: 0
A31: GREENE | B31: 16 | C31: 0 | D31: 0 | E31: 0 | F31: 0 | G31: 0 | H31: no | I31: 0 | J31: 0 | K31: yes | L31: n/a | M31: 0 | N31: n/a | O31: n/a | P31: n/a | Q31: n/a | R31: n/a | S31: n/a | T31: n/a
A32: HAMILTON | B32: 44 | C32: 0 | D32: 0 | E32: 0 | F32: 0 | G32: 0 | H32: No | I32: n/a | J32: N/A | K32: Yes | L32: N/A | M32: 0 | N32: 0 | O32: 0 | P32: 0 | Q32: 0 | R32: 0 | S32: 0 | T32: 0
A33: HERKIMER | B33: 131 | C33: 0 | D33: 5 | E33: 5 | F33: 5 | G33: 1 | H33: Yes | I33: 0 | J33: 1 | K33: Yes | L33: N/A | M33: 0 | N33: 0 | O33: 0 | P33: 0 | Q33: 0 | R33: 0 | S33: 0 | T33: 0
A34: JEFFERSON | B34: 123 | C34: 7 | D34: 7 | E34: 7 | F34: 6 | G34: 1 | H34: Yes | I34: 1 | J34: 0 | K34: Yes | L34: N/A | M34: 0 | N34: 0 | O34: 0 | P34: 0 | Q34: 0 | R34: 0 | S34: 0 | T34: 0
A35: LEWIS | B35: 119 | C35: 0 | D35: 0 | E35: 0 | F35: 0 | G35: 0 | H35: Yes | I35: 0 | J35: 0 | K35: Yes | L35: N/A | M35: 0 | N35: 0 | O35: 0 | P35: 0 | Q35: 0 | R35: 0 | S35: 0 | T35: 0
A36: LIVINGSTON | B36: 7 | C36: 0 | D36: 0 | E36: 1 | F36: 0 | G36: 0 | H36: Yes | I36: n/a | J36: n/a | K36: Yes | L36: n/a | M36: 0 | N36: 0 | O36: 0 | P36: 0 | Q36: 0 | R36: 0 | S36: 0 | T36: 0
A37: MADISON | B37: 79 | C37: 0 | D37: 0 | E37: 0 | F37: 0 | G37: 0 | H37: No | I37: 0 | J37: 0 | K37: Yes | L37: N/A | M37: 0 | N37: N/A | O37: N/A | P37: N/A | Q37: N/A | R37: N/A | S37: N/A | T37: N/A
A38: MONROE | B38: 157 | C38: 0 | D38: 26 | E38: 10 | F38: 8 | G38: 2 | H38: Yes | I38: 1 | J38: 1 | K38: No | L38: ATTACHED | M38: 0 | N38: N/A | O38: N/A | P38: N/A | Q38: N/A | R38: N/A | S38: N/A | T38: N/A
A39: MONTGOMERY | B39: 83 | C39: 0 | D39: 2 | E39: 1 | F39: 1 | G39: 0 | H39: Yes | I39: 1 | J39: 0 | K39: Yes | L39: N/A | M39: 0 | N39: N/A | O39: N/A | P39: N/A | Q39: N/A | R39: N/A | S39: N/A | T39: N/A
A40: NASSAU | B40: 153 | C40: 2 | D40: 2 | E40: 1 | F40: 3 | G40: 0 | H40: No | I40: 0 | J40: 0 | K40: Yes | L40: N/A | M40: 0 | N40: 0 | O40: 0 | P40: 0 | Q40: 0 | R40: 0 | S40: 0 | T40: 0
A41: NIAGARA | B41: 162 | C41: 1 | D41: 15 | E41: 10 | F41: 15 | G41: 7 | H41: Yes | I41: 6 | J41: 1 | K41: Yes | L41: N/A | M41: 8 | N41: 4 | O41: 2 | P41: 2 | Q41: 2 | R41: 0 | S41: 0 | T41: 0
A42: ONEIDA | B42: 198 | C42: 5 | D42: 23 | E42: 9 | F42: 4 | G42: 0 | H42: Yes | I42: N/A | J42: N/A | K42: No | L42: WE COMBINED THE ITEMS FROM THE POST ITS ONTO A ONE PAGE DOCUMENT | M42: 0 | N42: 0 | O42: 0 | P42: 0 | Q42: 0 | R42: 0 | S42: 0 | T42: 0
...

Sheet Report 1f
A1: 2025 Annual Statistical Information Survey
A3: Independent Nominating Petitions/Caucus Certificate Summary
A4: Please do not leave any cell blank. If cells are blank the State Board will need to reach out to obtain an answer.
A5: Key
A6: Value is zero | B6: 0
A7: Does not apply | B7: N/A
A8: Does not track | B8: DNT
B10: INDEPENDENT NOMINATING PETITIONS | M10: CAUCUS CERTIFICATES
B11: Question #71 | C11: Question #72 | D11: Question #73 | E11: Question #74 | F11: Question #75 | G11: Question #76 | H11: Question #77 | I11: Question #78 | J11: Question #79 | K11: Question #80 | L11: Question #81 | M11: Question #82 | N11: Question #83 | O11: Question #84 | P11: Question #85 | Q11: Question #86 | R11: Question #87 | S11: Question #88
A12: County | B12: Number Petitions Received | C12: Number Invalidated in Prima Facie Review | D12: Number Objected to | E12: Number of Specs Filed | F12: Number Invalidated by Board | G12: Does your board hold petition hearings? | H12: Number of Court Cases | I12: Number of Cases Upholding Board Position | J12: Number of Cases Reversing Board Position | K12: Do you use SBOE prima facie review post-it notes program for your review? | L12: If No, please describe what you use. | M12: Number of Caucus Certificates Received | N12: Number of Caucus Certificates Challenged | O12: Number of Specs Filed | P12: Number of Caucus Certificates Invalidated by Board | Q12: Number of Court Cases | R12: Number of Cases Upholding Board Position | S12: Number of Cases Reversing Board Position
A13: ALBANY | B13: 5 | C13: 1 | D13: 0 | E13: 0 | F13: 0 | G13: Yes | H13: 0 | I13: 0 | J13: 0 | K13: Yes | M13: 10 | N13: 0 | O13: 0 | P13: 0 | Q13: 0 | R13: 0 | S13: 0
A14: ALLEGANY | B14: 17 | C14: 0 | D14: 0 | E14: 0 | F14: 0 | G14: Yes | H14: 0 | I14: 0 | J14: 0 | K14: No | L14: inhouse prima facie review form | M14: 6 | N14: 0 | O14: 0 | P14: 0 | Q14: 0 | R14: 0 | S14: 0
A15: BROOME | B15: 0 | C15: N/A | D15: N/A | E15: N/A | F15: N/A | G15: Yes | H15: N/A | I15: N/A | J15: N/A | K15: Yes | L15: N/A | M15: 3 | N15: 0 | O15: N/A | P15: 0 | Q15: 0 | R15: N/A | S15: N/A
A16: CATTARAUGUS | B16: 5 | C16: 0 | D16: 1 | E16: 1 | F16: 0 | G16: Yes | H16: 0 | I16: 0 | J16: 0 | K16: Yes | L16: n/a | M16: 6 | N16: 0 | O16: 0 | P16: 0 | Q16: 0 | R16: 0 | S16: 0
A17: CAYUGA | B17: 11 | C17: 2 | D17: 0 | E17: 0 | F17: 0 | G17: Yes | H17: 0 | I17: 0 | J17: 0 | K17: No | L17: Prima facie and legal counsel | N17: 0 | O17: 0 | P17: 0 | Q17: 0 | R17: 0 | S17: 0
A18: CHAUTAUQUA | B18: 17 | C18: 1 | D18: 0 | E18: 0 | F18: 1 | G18: Yes | H18: 0 | I18: 0 | J18: 0 | K18: Yes | L18: N/A | M18: 18 | N18: 0 | O18: 0 | P18: 0 | Q18: 0 | R18: 0 | S18: 0
A19: CHEMUNG | B19: 15 | C19: 0 | D19: 4 | E19: 1 | F19: 1 | G19: Yes | H19: 0 | I19: 0 | J19: 0 | K19: No | L19: N/A | M19: 0 | N19: 0 | O19: 0 | P19: 0 | Q19: 0 | R19: 0 | S19: 0
A20: CHENANGO | B20: 31 | C20: 0 | D20: 1 | E20: 0 | F20: 0 | G20: No | H20: 0 | I20: 0 | J20: 0 | K20: Yes | L20: N/A | M20: 18 | N20: 0 | O20: 0 | P20: 0 | Q20: 0 | R20: 0 | S20: 0
A21: CLINTON | B21: 4 | C21: 0 | D21: 0 | E21: 0 | F21: 0 | G21: Yes | H21: 0 | I21: N/A | J21: N/A | K21: Yes | L21: N/A | M21: 28 | N21: 0 | O21: 0 | P21: 0 | Q21: 0 | R21: N/A | S21: N/A
A22: COLUMBIA | B22: 13 | C22: 0 | D22: 0 | E22: 0 | F22: 0 | G22: Yes | H22: 0 | I22: 0 | J22: 0 | K22: Yes | L22: NA | M22: 30 | N22: 0 | O22: 0 | P22: 0 | Q22: 0 | R22: 0 | S22: 0
A23: CORTLAND | B23: 11 | C23: 0 | D23: 0 | E23: N/A | F23: N/A | G23: Yes | H23: 0 | I23: N/A | J23: N/A | K23: Yes | L23: N/A | M23: 21 | N23: 0 | O23: N/A | P23: N/A | Q23: N/A | R23: N/A | S23: N/A
A24: DELAWARE | B24: 26 | C24: 1 | D24: 0 | E24: 0 | F24: 0 | G24: Yes | H24: 0 | I24: 0 | J24: 0 | K24: Yes | L24: N/A | M24: 0 | N24: 0 | O24: 0 | P24: 0 | Q24: 0 | R24: 0 | S24: 0
A25: DUTCHESS | B25: 16 | C25: 2 | D25: 2 | E25: 1 | F25: 0 | G25: Yes | H25: 0 | I25: 0 | J25: 0 | K25: Yes | L25: N/A | M25: 21 | N25: 3 | O25: 2 | P25: 1 | Q25: 0 | R25: 0 | S25: 0
A26: ERIE | B26: 25 | C26: 1 | D26: 15 | E26: 4 | F26: 1 | G26: Yes | H26: 1 | I26: 0 | J26: 1 | K26: No | L26: Review Petitions, separating those that do not comply | M26: 0 | N26: 0 | O26: 0 | P26: 0 | Q26: 0 | R26: 0 | S26: 0
A27: ESSEX | B27: 68 | C27: 4 | D27: 0 | E27: 0 | F27: N/A | G27: Yes | H27: N/A | I27: N/A | J27: N/A | K27: Yes | L27: N/A | M27: 3 | N27: 0 | O27: 0 | P27: N/A | Q27: N/A | R27: N/A | S27: N/A
A28: FRANKLIN | B28: 8 | C28: 0 | D28: 0 | E28: 0 | F28: 0 | G28: Yes | H28: 0 | I28: 0 | J28: 0 | K28: Yes | L28: N/A | M28: 35 | N28: 0 | O28: 0 | P28: 0 | Q28: 0 | R28: 0 | S28: 0
A29: FULTON | B29: 18 | C29: 0 | D29: 0 | E29: 0 | F29: 0 | G29: No | H29: 0 | I29: 0 | J29: 0 | K29: Yes | M29: 0 | N29: 0 | O29: 0 | P29: 0 | Q29: 0 | R29: 0 | S29: 0
A30: GENESEE | B30: 10 | C30: 0 | D30: 1 | E30: 1 | F30: 1 | G30: No | H30: 0 | I30: 0 | J30: 0 | K30: No | L30: Review sheet | M30: 2 | N30: 0 | O30: 0 | P30: 0 | Q30: 0 | R30: 0 | S30: 0
A31: GREENE | B31: 5 | C31: 0 | D31: 0 | E31: 0 | F31: 0 | G31: No | H31: 0 | I31: 0 | J31: 0 | K31: Yes | L31: n/a | M31: 23 | N31: 0 | O31: 0 | P31: 0 | Q31: 0 | R31: 0 | S31: 0
A32: HAMILTON | B32: 20 | C32: 0 | D32: 0 | E32: 0 | F32: 0 | G32: No | H32: 0 | I32: 0 | J32: 0 | K32: Yes | L32: N/A | M32: 0 | N32: 0 | O32: 0 | P32: 0 | Q32: 0 | R32: 0 | S32: 0
A33: HERKIMER | B33: 43 | C33: 0 | D33: 4 | E33: 4 | F33: 3 | G33: Yes | H33: 0 | I33: 0 | J33: 0 | K33: Yes | L33: n/a | M33: 0 | N33: 0 | O33: 0 | P33: 0 | Q33: 0 | R33: 0 | S33: 0
A34: JEFFERSON | B34: 17 | C34: 0 | D34: 1 | E34: 1 | F34: 0 | G34: Yes | H34: 0 | I34: 0 | J34: 0 | K34: Yes | L34: N/A | M34: 5 | N34: 0 | O34: 0 | P34: 0 | Q34: 0 | R34: 0 | S34: 0
A35: LEWIS | B35: 21 | C35: 1 | D35: 0 | E35: 0 | F35: 1 | G35: No | H35: 0 | I35: 0 | J35: 0 | K35: Yes | L35: N/A | M35: 0 | N35: 0 | O35: 0 | P35: 0 | Q35: 0 | R35: 0 | S35: 0
A36: LIVINGSTON | B36: 17 | C36: 0 | D36: 0 | E36: 0 | F36: 0 | G36: Yes | H36: 0 | I36: 0 | J36: 0 | K36: Yes | L36: n/a | M36: 27 | N36: 0 | O36: 0 | P36: 0 | Q36: 0 | R36: 0 | S36: 0
A37: MADISON | B37: 27 | C37: 1 | D37: 0 | E37: 1 | F37: 0 | G37: Yes | H37: 0 | I37: N/A | J37: N/A | K37: Yes | L37: N/A | M37: 6 | N37: 0 | O37: 0 | P37: 0 | Q37: 0 | R37: 0 | S37: 0
A38: MONROE | B38: 8 | C38: 2 | D38: 3 | E38: 1 | F38: 0 | G38: Yes | H38: 0 | I38: N/A | J38: N/A | K38: No | L38: Attached | M38: 0 | N38: N/A | O38: N/A | P38: N/A | Q38: N/A | R38: N/A | S38: N/A
A39: MONTGOMERY | B39: 7 | C39: 0 | D39: 0 | E39: 0 | F39: 0 | G39: Yes | H39: 0 | I39: 0 | J39: 0 | K39: Yes | L39: N/A | M39: N/A | N39: N/A | O39: N/A | P39: N/A | Q39: N/A | R39: N/A | S39: N/A
A40: NASSAU | B40: 10 | C40: 0 | D40: 7 | E40: 3 | F40: 3 | G40: No | H40: 0 | I40: 0 | J40: 0 | K40: Yes | L40: N/A | M40: 0 | N40: 0 | O40: 0 | P40: 0 | Q40: 0 | R40: 0 | S40: 0
A41: NIAGARA | B41: 2 | C41: 0 | D41: 0 | E41: 0 | F41: 0 | G41: Yes | H41: 0 | I41: 0 | J41: 0 | K41: Yes | L41: N/A | M41: 0 | N41: 0 | O41: 0 | P41: 0 | Q41: 0 | R41: 0 | S41: 0
A42: ONEIDA | B42: 16 | C42: 2 | D42: 4 | E42: 2 | F42: 2 | G42: Yes | H42: 0 | I42: N/A | J42: N/A | K42: No | L42: WE COMBINED THE ITEMS FROM THE POST ITS ONTO A ONE PAGE DOCUMENT | M42: 12 | N42: 0 | O42: 0 | P42: 0 | Q42: N/A | R42: N/A | S42: N/A
...

Sheet Report 2a
A1: 2025 Registration Summary
A3: Registration and Enrollment Summary
A4: ***Some totals will automatically calculate.
A5: Please do not leave any cell blank. If cells are blank the State Board will need to reach out to obtain an answer.
A6: Key
A7: Value is zero | B7: 0
A8: Does not apply | B8: N/A
A9: Does not track | B9: DNT
B12: Question #1 | C12: Question #2 | D12: Question #3 | E12: Question #4 | F12: Question #5 | G12: Question #6 | H12: Question #7 | J12: Question #8 | K12: Question #9 | L12: Question #10 | M12: Question #11 | N12: Question #12 | O12: Question #13 | P12: Question #14 | S12: Question #15 | T12: Question #16 | U12: Question #17 | V12: Question #18 | W12: Question #19 | X12: Question #20 | Y12: Question #21 | AA12: Question #22 | AB12: Question #23 | AC12: Question #24 | AD12: Question #25
B13: NEW REGISTRATION INFO | J13: New Pre-Registrations | S13: Updated Registrations | AA13: Types of Registration Changes
A14: County | B14: New Registrations Received by Agency-Based Programs | C14: New Registrations Received Through DMV Programs | D14: New Registrations Received by Mail | E14: New Registrations Received Via Personal Delivery to Board | F14: New Registrations from Advocacy Groups or Political Parties Reg Drives | G14: New Registrations from other Agencies Not Mandated by NVRA | H14: New Registrations from Polling Places and Voting Sites | I14: Number of New Registrations Processed | J14: New Pre-Registrations Received by Agency-Based Programs | K14: New Pre-Registrations Received Through DMV Programs | L14: New Pre-Registrations Received by Mail | M14: New Pre-Registrations Received Via Personal Delivery to Board | N14: New Pre-Registrations from Advocacy Groups or Political Parties Reg Drives | O14: New Pre-Registrations from other Agencies Not Mandated by NVRA | P14: New Pre-Registrations from Polling Places and Voting Sites | Q14: Number of New Pre Registrations Processed | R14: Total Number of New and Pre Registrations Processed | S14: Update of Existing Registrations Received by Agency-Based Programs | T14: Update of Existing Registrations Received Through DMV Programs | U14: Update of Existing Registrations Received by Mail | V14: Update of Existing Received Via Personal Delivery to Board | W14: Update of Existing from Advocacy Groups or Political Parties Reg Drives | X14: Update of Existing from other Agencies Not Mandated by NVRA | Y14: Update of Existing Registrations from Polling Places and Voting Sites | Z14: Number of Updated Existing Registrations Received | AA14: Number of Movers within your County | AB14: Number of Movers outside your County | AC14: Number of Enrollment Changes | AD14: Number of Name Changes | AE14: Total Questions 22-25
A18: ALBANY | B18: 367 | C18: 8113 | D18: 113 | E18: 316 | F18: 464 | G18: 2972 | H18: 0 | I18: =SUM(B18:H18) -> 12345 | J18: 25 | K18: 972 | L18: 201 | M18: 50 | N18: 0 | O18: 81 | P18: 0 | Q18: =SUM(J18:P18) -> 1329 | R18: =I18+Q18 -> 13674 | S18: 2227 | T18: 4939 | U18: 120 | V18: 150 | W18: 0 | X18: 2982 | Y18: 0 | Z18: =SUM(S18:Y18) -> 10418 | AA18: 1434 | AB18: 1088 | AC18: 3241 | AD18: 2419 | AE18: =SUM(AA18:AD18) -> 8182
A19: ALLEGANY | B19: 46 | C19: 953 | D19: 297 | E19: 4 | F19: DNT | G19: DNT | H19: DNT | I19: =SUM(B19:H19) -> 1300 | J19: 1 | K19: 232 | L19: 46 | M19: 57 | N19: DNT | O19: DNT | P19: DNT | Q19: =SUM(J19:P19) -> 336 | R19: =I19+Q19 -> 1636 | S19: 71 | T19: 1640 | U19: 582 | V19: 438 | W19: DNT | X19: DNT | Y19: DNT | Z19: =SUM(S19:Y19) -> 2731 | AA19: 1910 | AB19: 51 | AC19: 307 | AD19: 229 | AE19: =SUM(AA19:AD19) -> 2497
A20: BROOME | B20: 195 | C20: 2565 | D20: 612 | E20: 177 | F20: 934 | G20: 0 | H20: 16 | I20: =SUM(B20:H20) -> 4499 | J20: 0 | K20: 581 | L20: 0 | M20: 0 | N20: 12 | O20: 0 | P20: 0 | Q20: =SUM(J20:P20) -> 593 | R20: =I20+Q20 -> 5092 | S20: 185 | T20: 2261 | U20: 4713 | V20: 776 | W20: 324 | X20: 0 | Y20: 0 | Z20: =SUM(S20:Y20) -> 8259 | AA20: 7869 | AB20: 1054 | AC20: 2227 | AD20: 1847 | AE20: =SUM(AA20:AD20) -> 12997
A21: CATTARAUGUS | B21: 91 | C21: 1180 | D21: 66 | E21: 7 | F21: 92 | G21: 208 | H21: 21 | I21: =SUM(B21:H21) -> 1665 | J21: 0 | K21: 738 | L21: 299 | M21: 0 | N21: 54 | O21: 5 | P21: 0 | Q21: =SUM(J21:P21) -> 1096 | R21: =I21+Q21 -> 2761 | S21: 191 | T21: 3203 | U21: 10722 | V21: 276 | W21: 75 | X21: 5484 | Y21: 99 | Z21: =SUM(S21:Y21) -> 20050 | AA21: 1290 | AB21: 784 | AC21: 1073 | AD21: 1390 | AE21: =SUM(AA21:AD21) -> 4537
A22: CAYUGA | B22: 67 | C22: 1319 | D22: 10 | E22: 1302 | F22: 0 | G22: 0 | H22: 7 | I22: =SUM(B22:H22) -> 2705 | J22: 0 | K22: 35 | L22: 0 | M22: 1 | N22: 0 | O22: 0 | P22: 0 | Q22: =SUM(J22:P22) -> 36 | R22: =I22+Q22 -> 2741 | S22: 161 | T22: 3000 | U22: 9034 | V22: 195 | W22: 10 | X22: 720 | Y22: 101 | Z22: =SUM(S22:Y22) -> 13221 | AA22: 1489 | AB22: 228 | AC22: 582 | AD22: 536 | AE22: =SUM(AA22:AD22) -> 2835
A23: CHAUTAUQUA | B23: 131 | C23: 2229 | D23: 206 | E23: 13 | F23: 40 | G23: 101 | H23: 19 | I23: =SUM(B23:H23) -> 2739 | J23: 0 | K23: 78 | L23: 1 | M23: 0 | N23: 0 | O23: 0 | P23: 0 | Q23: =SUM(J23:P23) -> 79 | R23: =I23+Q23 -> 2818 | S23: 654 | T23: 4055 | U23: 22472 | V23: 79 | W23: 14 | X23: 0 | Y23: 0 | Z23: =SUM(S23:Y23) -> 27274 | AA23: 2798 | AB23: 576 | AC23: 1135 | AD23: 508 | AE23: =SUM(AA23:AD23) -> 5017
A24: CHEMUNG | B24: 127 | C24: 2119 | D24: 80 | E24: 15 | F24: 9 | G24: 101 | H24: 4 | I24: =SUM(B24:H24) -> 2455 | J24: 0 | K24: 424 | L24: 9 | M24: 0 | N24: 18 | O24: 0 | P24: 0 | Q24: =SUM(J24:P24) -> 451 | R24: =I24+Q24 -> 2906 | S24: 109 | T24: 2805 | U24: 66 | V24: 11 | W24: 9 | X24: 292 | Y24: 36 | Z24: =SUM(S24:Y24) -> 3328 | AA24: 1288 | AB24: 1034 | AC24: 758 | AD24: 195 | AE24: =SUM(AA24:AD24) -> 3275
A25: CHENANGO | B25: 35 | C25: 1114 | D25: 187 | E25: 89 | F25: 38 | G25: 97 | H25: 0 | I25: =SUM(B25:H25) -> 1560 | J25: 1 | K25: 173 | L25: 17 | M25: 9 | N25: 13 | O25: 0 | P25: 0 | Q25: =SUM(J25:P25) -> 213 | R25: =I25+Q25 -> 1773 | S25: 85 | T25: 3777 | U25: 417 | V25: 798 | W25: 1 | X25: 482 | Y25: 0 | Z25: =SUM(S25:Y25) -> 5560 | AA25: 1884 | AB25: 3 | AC25: 343 | AD25: 742 | AE25: =SUM(AA25:AD25) -> 2972
A26: CLINTON | B26: 378 | C26: 1297 | D26: 178 | E26: 160 | F26: 30 | G26: N/A | H26: 16 | I26: =SUM(B26:H26) -> 2059 | J26: 14 | K26: 486 | L26: 27 | M26: 0 | N26: DNT | O26: DNT | P26: 0 | Q26: =SUM(J26:P26) -> 527 | R26: =I26+Q26 -> 2586 | S26: 71 | T26: 514 | U26: 127 | V26: 258 | W26: DNT | X26: DNT | Y26: 4 | Z26: =SUM(S26:Y26) -> 974 | AA26: 2351 | AB26: 118 | AC26: 561 | AD26: 214 | AE26: =SUM(AA26:AD26) -> 3244
A27: COLUMBIA | B27: 35 | C27: 1560 | D27: 199 | E27: 179 | F27: 0 | G27: 235 | H27: 27 | I27: =SUM(B27:H27) -> 2235 | J27: 0 | K27: 120 | L27: 3 | M27: 223 | N27: 0 | O27: 0 | P27: 1 | Q27: =SUM(J27:P27) -> 347 | R27: =I27+Q27 -> 2582 | S27: 57 | T27: 2302 | U27: 2225 | V27: 29978 | W27: 0 | X27: 45 | Y27: 233 | Z27: =SUM(S27:Y27) -> 34840 | AA27: 1464 | AB27: 467 | AC27: 893 | AD27: 942 | AE27: =SUM(AA27:AD27) -> 3766
A28: CORTLAND | B28: 52 | C28: 906 | D28: 72 | E28: 25 | F28: 43 | G28: 0 | H28: 5 | I28: =SUM(B28:H28) -> 1103 | J28: 0 | K28: 46 | L28: 0 | M28: 0 | N28: 0 | O28: 0 | P28: 0 | Q28: =SUM(J28:P28) -> 46 | R28: =I28+Q28 -> 1149 | S28: 45 | T28: 2086 | U28: 54 | V28: 133 | W28: 111 | X28: 0 | Y28: 33 | Z28: =SUM(S28:Y28) -> 2462 | AA28: 1111 | AB28: 347 | AC28: 442 | AD28: 217 | AE28: =SUM(AA28:AD28) -> 2117
A29: DELAWARE | B29: 29 | C29: 306 | D29: 41 | E29: 1763 | F29: 1 | G29: 268 | I29: =SUM(B29:H29) -> 2408 | J29: 0 | K29: 107 | L29: 5 | M29: 38 | N29: 0 | O29: 0 | P29: 0 | Q29: =SUM(J29:P29) -> 150 | R29: =I29+Q29 -> 2558 | S29: 29 | T29: 307 | U29: 76 | V29: 1985 | W29: 1 | X29: 12 | Z29: =SUM(S29:Y29) -> 2410 | AA29: 692 | AB29: 700 | AC29: 377 | AD29: 221 | AE29: =SUM(AA29:AD29) -> 1990
A30: DUTCHESS | B30: 105 | C30: 4889 | D30: 239 | E30: 111 | F30: 633 | G30: 676 | H30: 42 | I30: =SUM(B30:H30) -> 6695 | J30: 3 | K30: 615 | L30: 39 | M30: 21 | N30: 399 | O30: 36 | P30: 3 | Q30: =SUM(J30:P30) -> 1116 | R30: =I30+Q30 -> 7811 | S30: 238 | T30: 10841 | U30: 219110 | V30: 391 | W30: 540 | X30: 1346 | Y30: 530 | Z30: =SUM(S30:Y30) -> 232996 | AA30: 6738 | AB30: 4033 | AC30: 2699 | AD30: 1961 | AE30: =SUM(AA30:AD30) -> 15431
A31: ERIE | B31: 1061 | C31: 13125 | D31: 2096 | E31: 450 | F31: 573 | G31: 3177 | H31: 1956 | I31: =SUM(B31:H31) -> 22438 | J31: 210 | K31: 4527 | L31: 275 | M31: 132 | N31: 20 | O31: 10 | P31: 6 | Q31: =SUM(J31:P31) -> 5180 | R31: =I31+Q31 -> 27618 | S31: 1790 | T31: 35045 | U31: 5445 | V31: 425 | W31: 62 | X31: 1612 | Y31: 6573 | Z31: =SUM(S31:Y31) -> 50952 | AA31: 38364 | AB31: 2361 | AC31: 13480 | AD31: 2386 | AE31: =SUM(AA31:AD31) -> 56591
A32: ESSEX | B32: 93 | C32: 731 | D32: 258 | E32: 56 | F32: N/A | G32: N/A | H32: 17 | I32: =SUM(B32:H32) -> 1155 | J32: 0 | K32: 142 | L32: 5 | M32: 1 | N32: N/A | O32: N/A | P32: N/A | Q32: =SUM(J32:P32) -> 148 | R32: =I32+Q32 -> 1303 | S32: 98 | T32: 688 | U32: 27 | V32: 29 | W32: N/A | X32: N/A | Y32: 50 | Z32: =SUM(S32:Y32) -> 892 | AA32: 708 | AB32: 648 | AC32: 322 | AD32: 63 | AE32: =SUM(AA32:AD32) -> 1741
A33: FRANKLIN | B33: 52 | C33: 953 | D33: 185 | E33: 31 | F33: 0 | G33: 0 | H33: 12 | I33: =SUM(B33:H33) -> 1233 | J33: 0 | K33: 263 | L33: 4 | M33: 0 | N33: 0 | O33: 0 | P33: 0 | Q33: =SUM(J33:P33) -> 267 | R33: =I33+Q33 -> 1500 | S33: 52 | T33: 1747 | U33: 8303 | V33: 79 | W33: 0 | X33: 0 | Y33: 123 | Z33: =SUM(S33:Y33) -> 10304 | AA33: 1469 | AB33: 433 | AC33: 429 | AD33: 243 | AE33: =SUM(AA33:AD33) -> 2574
A34: FULTON | B34: 17 | C34: 2211 | D34: 108 | E34: 57 | F34: 53 | G34: 3 | H34: 14 | I34: =SUM(B34:H34) -> 2463 | J34: 0 | K34: 147 | L34: 5 | M34: 12 | N34: 0 | O34: 0 | P34: 0 | Q34: =SUM(J34:P34) -> 164 | R34: =I34+Q34 -> 2627 | S34: 8 | T34: 1879 | U34: 77 | V34: 63 | W34: 16 | X34: 17 | Y34: 0 | Z34: =SUM(S34:Y34) -> 2060 | AA34: 1916 | AB34: 4 | AC34: 528 | AD34: 293 | AE34: =SUM(AA34:AD34) -> 2741
A35: GENESEE | B35: 48 | C35: 1479 | D35: 65 | E35: 45 | F35: 0 | G35: 0 | H35: 0 | I35: =SUM(B35:H35) -> 1637 | J35: 0 | K35: 382 | L35: 4 | M35: 86 | N35: 0 | O35: 0 | P35: 0 | Q35: =SUM(J35:P35) -> 472 | R35: =I35+Q35 -> 2109 | S35: 41 | T35: 1627 | U35: 462 | V35: 24 | W35: 0 | X35: 0 | Y35: 27 | Z35: =SUM(S35:Y35) -> 2181 | AA35: 996 | AB35: 435 | AC35: 511 | AD35: 312 | AE35: =SUM(AA35:AD35) -> 2254
A36: GREENE | B36: 30 | C36: 606 | D36: 82 | E36: 78 | F36: 14 | G36: 144 | H36: 1 | I36: =SUM(B36:H36) -> 955 | J36: 0 | K36: 76 | L36: 7 | M36: 10 | N36: 12 | O36: 0 | P36: 0 | Q36: =SUM(J36:P36) -> 105 | R36: =I36+Q36 -> 1060 | S36: 26 | T36: 1624 | U36: 56 | V36: 49 | W36: 0 | X36: 148 | Y36: 0 | Z36: =SUM(S36:Y36) -> 1903 | AA36: 1036 | AB36: 6 | AC36: 573 | AD36: 453 | AE36: =SUM(AA36:AD36) -> 2068
A37: HAMILTON | B37: 9 | C37: 96 | D37: 32 | E37: 7 | F37: 0 | G37: 0 | H37: 3 | I37: =SUM(B37:H37) -> 147 | J37: 0 | K37: 2 | L37: 2 | M37: 0 | N37: 0 | O37: 0 | P37: 0 | Q37: =SUM(J37:P37) -> 4 | R37: =I37+Q37 -> 151 | S37: 4 | T37: 108 | U37: 174 | V37: 2 | W37: 0 | X37: 0 | Y37: 0 | Z37: =SUM(S37:Y37) -> 288 | AA37: 77 | AB37: 0 | AC37: 62 | AD37: 14 | AE37: =SUM(AA37:AD37) -> 153
A38: HERKIMER | B38: 52 | C38: 862 | D38: 105 | E38: 37 | F38: 0 | G38: 0 | H38: 2 | I38: =SUM(B38:H38) -> 1058 | J38: DNT | K38: 292 | L38: 3 | M38: 52 | N38: DNT | O38: DNT | P38: DNT | Q38: =SUM(J38:P38) -> 347 | R38: =I38+Q38 -> 1405 | S38: DNT | T38: DNT | U38: DNT | V38: DNT | W38: DNT | X38: DNT | Y38: DNT | Z38: =SUM(S38:Y38) -> 0 | AA38: 1735 | AB38: 587 | AC38: 770 | AD38: 829 | AE38: =SUM(AA38:AD38) -> 3921
A39: JEFFERSON | B39: 69 | C39: 1745 | D39: 62 | E39: 457 | F39: 6 | G39: 1 | H39: 23 | I39: =SUM(B39:H39) -> 2363 | J39: 0 | K39: 458 | L39: 9 | M39: 0 | N39: 0 | O39: 0 | P39: 0 | Q39: =SUM(J39:P39) -> 467 | R39: =I39+Q39 -> 2830 | S39: 504 | T39: 18087 | U39: 971 | V39: 143 | W39: 43 | X39: 48 | Y39: 549 | Z39: =SUM(S39:Y39) -> 20345 | AA39: 10224 | AB39: 950 | AC39: 1279 | AD39: 480 | AE39: =SUM(AA39:AD39) -> 12933
A40: LEWIS | B40: 22 | C40: 181 | D40: 63 | E40: 36 | F40: 0 | G40: 0 | H40: 0 | I40: =SUM(B40:H40) -> 302 | J40: 0 | K40: 202 | L40: 4 | M40: 0 | N40: 0 | O40: 0 | P40: 0 | Q40: =SUM(J40:P40) -> 206 | R40: =I40+Q40 -> 508 | S40: 24 | T40: 488 | U40: 269 | V40: 714 | W40: 0 | X40: 0 | Y40: 0 | Z40: =SUM(S40:Y40) -> 1495 | AA40: 485 | AB40: 70 | AC40: 268 | AD40: 101 | AE40: =SUM(AA40:AD40) -> 924
A41: LIVINGSTON | B41: 1870 | C41: 263 | D41: 1201 | E41: 65 | F41: 3 | G41: 0 | H41: 0 | I41: =SUM(B41:H41) -> 3402 | J41: 400 | K41: 33 | L41: 0 | M41: 0 | N41: 0 | O41: 0 | P41: 0 | Q41: =SUM(J41:P41) -> 433 | R41: =I41+Q41 -> 3835 | S41: 16961 | T41: 2156 | U41: 14066 | V41: 78 | W41: 10 | X41: 0 | Y41: 0 | Z41: =SUM(S41:Y41) -> 33271 | AA41: 725 | AB41: 941 | AC41: 658 | AD41: 247 | AE41: =SUM(AA41:AD41) -> 2571
A42: MADISON | B42: 28 | C42: 1723 | D42: 161 | E42: 13 | F42: 23 | G42: n/a | H42: 16 | I42: =SUM(B42:H42) -> 1964 | J42: 6 | K42: 146 | L42: 1 | M42: 0 | N42: 0 | O42: n/a | P42: 0 | Q42: =SUM(J42:P42) -> 153 | R42: =I42+Q42 -> 2117 | S42: 241 | T42: 5655 | U42: 821 | V42: 110 | W42: n/a | X42: n/a | Y42: n/a | Z42: =SUM(S42:Y42) -> 6827 | AA42: 421 | AB42: 143 | AC42: 229 | AD42: 739 | AE42: =SUM(AA42:AD42) -> 1532
A43: MONROE | B43: 355 | C43: 8075 | D43: 455 | E43: 220 | F43: 465 | G43: DNT | H43: DNT | I43: =SUM(B43:H43) -> 9570 | J43: 2 | K43: 3408 | L43: 15 | M43: 24 | N43: 98 | O43: DNT | P43: DNT | Q43: =SUM(J43:P43) -> 3547 | R43: =I43+Q43 -> 13117 | S43: 955 | T43: 48231 | U43: 2005 | V43: 714 | W43: 85 | X43: DNT | Y43: DNT | Z43: =SUM(S43:Y43) -> 51990 | AA43: 29178 | AB43: 4402 | AC43: 28032 | AD43: 3721 | AE43: =SUM(AA43:AD43) -> 65333
A44: MONTGOMERY | B44: 90 | C44: 683 | D44: 299 | E44: 79 | F44: 9 | G44: 0 | H44: 10 | I44: =SUM(B44:H44) -> 1170 | J44: 0 | K44: 70 | L44: 7 | M44: 24 | N44: 4 | O44: 0 | P44: 0 | Q44: =SUM(J44:P44) -> 105 | R44: =I44+Q44 -> 1275 | S44: 125 | T44: 2534 | U44: 37797 | V44: 113 | W44: 19 | X44: 0 | Y44: 45 | Z44: =SUM(S44:Y44) -> 40633 | AA44: 1433 | AB44: 280 | AC44: 468 | AD44: 561 | AE44: =SUM(AA44:AD44) -> 2742
A45: NASSAU | B45: 14518 | C45: 11989 | D45: 1482 | E45: 879 | F45: 4727 | G45: 117 | H45: 315 | I45: =SUM(B45:H45) -> 34027 | J45: 295 | K45: 3935 | L45: 96 | M45: 47 | N45: 3677 | O45: 0 | P45: 0 | Q45: =SUM(J45:P45) -> 8050 | R45: =I45+Q45 -> 42077 | S45: 7961 | T45: 35870 | U45: 3366 | V45: 1332 | W45: 1162 | X45: 158 | Y45: 179 | Z45: =SUM(S45:Y45) -> 50028 | AA45: 31727 | AB45: 4036 | AC45: 10621 | AD45: 7680 | AE45: =SUM(AA45:AD45) -> 54064
A46: NIAGARA | B46: 207 | C46: 4796 | D46: 186 | E46: 149 | F46: 51 | G46: 0 | H46: DNT | I46: =SUM(B46:H46) -> 5389 | J46: 0 | K46: 1230 | L46: 22 | M46: 19 | N46: 33 | O46: 0 | P46: DNT | Q46: =SUM(J46:P46) -> 1304 | R46: =I46+Q46 -> 6693 | S46: 414 | T46: 11097 | U46: 4429 | V46: 278 | W46: 111 | X46: 0 | Y46: DNT | Z46: =SUM(S46:Y46) -> 16329 | AA46: 6438 | AB46: 2318 | AC46: 2782 | AD46: 1519 | AE46: =SUM(AA46:AD46) -> 13057
...

Sheet Report 2b
A1: 2025 Annual Statistical Information Survey
A3: Registration and Enrollment Summary
A4: ***Some totals will automatically calculate.
A5: Please do not leave any cell blank. If cells are blank the State Board will need to reach out to obtain an answer.
A6: Key
A7: Value is zero | B7: 0
A8: Does not apply | B8: N/A
A9: Does not track | B9: DNT
B12: Question #26 | C12: Question #27 | D12: Question #28 | E12: Question #29 | F12: Question #30 | G12: Question #31 | H12: Question #32 | J12: Question #33 | K12: Question #34 | L12: Question #35 | M12: Question #36 | N12: Question #37 | O12: Question #38 | P12: Question #39 | R12: Question #40 | T12: Question #41
B13: Duplicate Registrations | J13: Invalid Registrations | R13: Other Registration Transactions
A14: County | B14: Number of Duplicate Registrations Received by Agency-Based Programs | C14: Number of Duplicate Registrations Received Through DMV Programs | D14: Number of Duplicate Registrations Received by Mail | E14: Number of Duplicate Registrations Received Via Personal Delivery to Board | F14: Number of Duplicate Registrations from Advocacy Groups or Political Parties Reg Drives | G14: Number of Duplicate Registrations from other Agencies Not Mandated by NVRA | H14: Number of Duplicate Registrations from Polling Places and Voting Sites | I14: Total Number of Duplicate Applications Received | J14: Number of Invalid Registrations Received by Agency-Based Programs | K14: Number of Invalid Registrations Received from DMV | L14: Number of Invalid Registrations Received by Mail | M14: Number of Invalid Registrations Received Via Personal Delivery to Board | N14: Number of Invalid Registrations from Advocacy Groups or Political Parties Reg Drives | O14: Number of Invalid Registrations Received from Other Agencies Not Mandated by NVRA | P14: Number of Invalid Registrations from Polling Places and Voting Sites | Q14: Number of Invalid Applications Received | R14: Number of Other Transactions | S14: Reason | T14: Number of Transactions Rejected | U14: Reason
A18: ALBANY | B18: 10 | C18: 100 | D18: 17 | E18: 24 | F18: 0 | G18: 305 | H18: 439 | I18: =SUM(B18:H18) -> 895 | J18: 0 | K18: 0 | L18: 0 | M18: 0 | N18: 0 | O18: 0 | P18: 0 | Q18: =SUM(J18:P18) -> 0 | R18: 0
